BEGIN:VCALENDAR
VERSION:2.0
PRODID:-//Bill Slevin - ECPv6.15.20//NONSGML v1.0//EN
CALSCALE:GREGORIAN
METHOD:PUBLISH
X-WR-CALNAME:Bill Slevin
X-ORIGINAL-URL:https://billslevin.com
X-WR-CALDESC:Events for Bill Slevin
REFRESH-INTERVAL;VALUE=DURATION:PT1H
X-Robots-Tag:noindex
X-PUBLISHED-TTL:PT1H
BEGIN:VTIMEZONE
TZID:America/New_York
BEGIN:DAYLIGHT
TZOFFSETFROM:-0500
TZOFFSETTO:-0400
TZNAME:EDT
DTSTART:20240310T070000
END:DAYLIGHT
BEGIN:STANDARD
TZOFFSETFROM:-0400
TZOFFSETTO:-0500
TZNAME:EST
DTSTART:20241103T060000
END:STANDARD
BEGIN:DAYLIGHT
TZOFFSETFROM:-0500
TZOFFSETTO:-0400
TZNAME:EDT
DTSTART:20250309T070000
END:DAYLIGHT
BEGIN:STANDARD
TZOFFSETFROM:-0400
TZOFFSETTO:-0500
TZNAME:EST
DTSTART:20251102T060000
END:STANDARD
BEGIN:DAYLIGHT
TZOFFSETFROM:-0500
TZOFFSETTO:-0400
TZNAME:EDT
DTSTART:20260308T070000
END:DAYLIGHT
BEGIN:STANDARD
TZOFFSETFROM:-0400
TZOFFSETTO:-0500
TZNAME:EST
DTSTART:20261101T060000
END:STANDARD
END:VTIMEZONE
BEGIN:VEVENT
DTSTART;VALUE=DATE:20250712
DTEND;VALUE=DATE:20250714
DTSTAMP:20260423T175708
CREATED:20250710T131119Z
LAST-MODIFIED:20250710T131443Z
UID:55676-1752278400-1752451199@billslevin.com
SUMMARY:CT Paraconn
DESCRIPTION:Ok everyone\, Especially my Northern friends\, family and fans\, i will finally be up in your area!!\n\n\nI will be a guest at the Connecticut Paraconn – THIS WEEKEND CT’s Paranormal Convention + True Crime Conference Crosby H.S. Waterbury CT\n\n\ni will be part of an amazing panel on Saturday 7/12 @3pm – The panel is called “The Chronicles of Demonologists” i will be along side Carl L. Johnson and The Godfather of the paranormal Johnny Zaffis – i am honored to be part of this amazing panel!!\n\n\nI will be there both days come out and see me at my booth for more info and tickets please go to www.paraconn.org\n\n\nThere are gong to be some great guests and also a special paranormal investigation Saturday night with the Godfather of the paranormal Johnny Zaffis – don’t miss this event!!\n\n\nAlso come see special guest Butch Patrick – Eddie Munster \n\n\n\nhttps://billslevin.com/wp-content/uploads/2025/06/CT-Paraconn-Small.mp4
URL:https://billslevin.com/event/ct-paraconn/
LOCATION:Crosby High School\, 300 Pierpoint Road\, Waterbury\, CT\, United States
CATEGORIES:Conventions
ATTACH;FMTTYPE=image/jpeg:https://billslevin.com/wp-content/uploads/2025/06/486385204_122168833544308776_3945140068698814445_n.jpg
ORGANIZER;CN="The Shaman & The Showman LLC":MAILTO:CTParaConn@gmail.com
END:VEVENT
END:VCALENDAR